BEGIN:VCALENDAR
VERSION:2.0
PRODID:https://www.kufer.de/kuferweb / DE
METHOD:PUBLISH
CALSCALE:GREGORIAN
X-WR-TIMEZONE:Europe/Berlin
BEGIN:VTIMEZONE
TZID:Europe/Berlin
X-LIC-LOCATION:Europe/Berlin
BEGIN:DAYLIGHT
TZOFFSETFROM:+0100
TZOFFSETTO:+0200
TZNAME:CEST
DTSTART:19700329T020000
RRULE:FREQ=YEARLY;INTERVAL=1;BYDAY=-1SU;BYMONTH=3
END:DAYLIGHT
BEGIN:STANDARD
TZOFFSETFROM:+0200
TZOFFSETTO:+0100
TZNAME:CET
DTSTART:19701025T030000
RRULE:FREQ=YEARLY;INTERVAL=1;BYDAY=-1SU;BYMONTH=10
END:STANDARD
END:VTIMEZONE
BEGIN:VEVENT
DTSTAMP:20260421T134134
DTSTART;TZID=Europe/Berlin:20260618T100000
DTEND;TZID=Europe/Berlin:20260618T110000
UID:F264152-20260618T100000@VHSIM HAAGER LAND E. V.
SUMMARY:Faszientraining für Herren ab 50+, Fit bleiben bis ins hohe Alter (F264152) 
LOCATION:Physio Point Haag, Münchner Str. 15 b, Münchener Str. 15 b, 83527 Haag i. OB
END:VEVENT
BEGIN:VEVENT
DTSTAMP:20260421T134134
DTSTART;TZID=Europe/Berlin:20260625T100000
DTEND;TZID=Europe/Berlin:20260625T110000
UID:F264152-20260625T100000@VHSIM HAAGER LAND E. V.
SUMMARY:Faszientraining für Herren ab 50+, Fit bleiben bis ins hohe Alter (F264152) 
LOCATION:Physio Point Haag, Münchner Str. 15 b, Münchener Str. 15 b, 83527 Haag i. OB
END:VEVENT
BEGIN:VEVENT
DTSTAMP:20260421T134134
DTSTART;TZID=Europe/Berlin:20260702T100000
DTEND;TZID=Europe/Berlin:20260702T110000
UID:F264152-20260702T100000@VHSIM HAAGER LAND E. V.
SUMMARY:Faszientraining für Herren ab 50+, Fit bleiben bis ins hohe Alter (F264152) 
LOCATION:Physio Point Haag, Münchner Str. 15 b, Münchener Str. 15 b, 83527 Haag i. OB
END:VEVENT
BEGIN:VEVENT
DTSTAMP:20260421T134134
DTSTART;TZID=Europe/Berlin:20260709T100000
DTEND;TZID=Europe/Berlin:20260709T110000
UID:F264152-20260709T100000@VHSIM HAAGER LAND E. V.
SUMMARY:Faszientraining für Herren ab 50+, Fit bleiben bis ins hohe Alter (F264152) 
LOCATION:Physio Point Haag, Münchner Str. 15 b, Münchener Str. 15 b, 83527 Haag i. OB
END:VEVENT
BEGIN:VEVENT
DTSTAMP:20260421T134134
DTSTART;TZID=Europe/Berlin:20260716T100000
DTEND;TZID=Europe/Berlin:20260716T110000
UID:F264152-20260716T100000@VHSIM HAAGER LAND E. V.
SUMMARY:Faszientraining für Herren ab 50+, Fit bleiben bis ins hohe Alter (F264152) 
LOCATION:Physio Point Haag, Münchner Str. 15 b, Münchener Str. 15 b, 83527 Haag i. OB
END:VEVENT
BEGIN:VEVENT
DTSTAMP:20260421T134134
DTSTART;TZID=Europe/Berlin:20260723T100000
DTEND;TZID=Europe/Berlin:20260723T110000
UID:F264152-20260723T100000@VHSIM HAAGER LAND E. V.
SUMMARY:Faszientraining für Herren ab 50+, Fit bleiben bis ins hohe Alter (F264152) 
LOCATION:Physio Point Haag, Münchner Str. 15 b, Münchener Str. 15 b, 83527 Haag i. OB
END:VEVENT
END:VCALENDAR