BEGIN:VCALENDAR
VERSION:2.0
PRODID:https://www.kufer.de/kuferweb / DE
METHOD:PUBLISH
CALSCALE:GREGORIAN
X-WR-TIMEZONE:Europe/Berlin
BEGIN:VTIMEZONE
TZID:Europe/Berlin
X-LIC-LOCATION:Europe/Berlin
BEGIN:DAYLIGHT
TZOFFSETFROM:+0100
TZOFFSETTO:+0200
TZNAME:CEST
DTSTART:19700329T020000
RRULE:FREQ=YEARLY;INTERVAL=1;BYDAY=-1SU;BYMONTH=3
END:DAYLIGHT
BEGIN:STANDARD
TZOFFSETFROM:+0200
TZOFFSETTO:+0100
TZNAME:CET
DTSTART:19701025T030000
RRULE:FREQ=YEARLY;INTERVAL=1;BYDAY=-1SU;BYMONTH=10
END:STANDARD
END:VTIMEZONE
BEGIN:VEVENT
DTSTAMP:20260419T151545
DTSTART;TZID=Europe/Berlin:20260608T193000
DTEND;TZID=Europe/Berlin:20260608T203000
UID:F264162-20260608T193000@VHSIM HAAGER LAND E. V.
SUMMARY:AtemYoga - mit Achtsamkeit und Meditation zur Ruhe kommen (F264162) 
LOCATION:Wasserburger Str. 25, Vereinsraum
END:VEVENT
BEGIN:VEVENT
DTSTAMP:20260419T151546
DTSTART;TZID=Europe/Berlin:20260615T193000
DTEND;TZID=Europe/Berlin:20260615T203000
UID:F264162-20260615T193000@VHSIM HAAGER LAND E. V.
SUMMARY:AtemYoga - mit Achtsamkeit und Meditation zur Ruhe kommen (F264162) 
LOCATION:Wasserburger Str. 25, Vereinsraum
END:VEVENT
BEGIN:VEVENT
DTSTAMP:20260419T151546
DTSTART;TZID=Europe/Berlin:20260622T193000
DTEND;TZID=Europe/Berlin:20260622T203000
UID:F264162-20260622T193000@VHSIM HAAGER LAND E. V.
SUMMARY:AtemYoga - mit Achtsamkeit und Meditation zur Ruhe kommen (F264162) 
LOCATION:Wasserburger Str. 25, Vereinsraum
END:VEVENT
BEGIN:VEVENT
DTSTAMP:20260419T151546
DTSTART;TZID=Europe/Berlin:20260629T193000
DTEND;TZID=Europe/Berlin:20260629T203000
UID:F264162-20260629T193000@VHSIM HAAGER LAND E. V.
SUMMARY:AtemYoga - mit Achtsamkeit und Meditation zur Ruhe kommen (F264162) 
LOCATION:Wasserburger Str. 25, Vereinsraum
END:VEVENT
BEGIN:VEVENT
DTSTAMP:20260419T151546
DTSTART;TZID=Europe/Berlin:20260706T193000
DTEND;TZID=Europe/Berlin:20260706T203000
UID:F264162-20260706T193000@VHSIM HAAGER LAND E. V.
SUMMARY:AtemYoga - mit Achtsamkeit und Meditation zur Ruhe kommen (F264162) 
LOCATION:Wasserburger Str. 25, Vereinsraum
END:VEVENT
BEGIN:VEVENT
DTSTAMP:20260419T151546
DTSTART;TZID=Europe/Berlin:20260713T193000
DTEND;TZID=Europe/Berlin:20260713T203000
UID:F264162-20260713T193000@VHSIM HAAGER LAND E. V.
SUMMARY:AtemYoga - mit Achtsamkeit und Meditation zur Ruhe kommen (F264162) 
LOCATION:Wasserburger Str. 25, Vereinsraum
END:VEVENT
BEGIN:VEVENT
DTSTAMP:20260419T151546
DTSTART;TZID=Europe/Berlin:20260720T193000
DTEND;TZID=Europe/Berlin:20260720T203000
UID:F264162-20260720T193000@VHSIM HAAGER LAND E. V.
SUMMARY:AtemYoga - mit Achtsamkeit und Meditation zur Ruhe kommen (F264162) 
LOCATION:Wasserburger Str. 25, Vereinsraum
END:VEVENT
END:VCALENDAR